BEGIN:VCALENDAR
VERSION:2.0
PRODID:-//Rice Lake Senior Center - ECPv6.15.20//NONSGML v1.0//EN
CALSCALE:GREGORIAN
METHOD:PUBLISH
X-ORIGINAL-URL:https://ricelakeseniorcenter.org
X-WR-CALDESC:Events for Rice Lake Senior Center
REFRESH-INTERVAL;VALUE=DURATION:PT1H
X-Robots-Tag:noindex
X-PUBLISHED-TTL:PT1H
BEGIN:VTIMEZONE
TZID:America/Chicago
BEGIN:DAYLIGHT
TZOFFSETFROM:-0600
TZOFFSETTO:-0500
TZNAME:CDT
DTSTART:20250309T080000
END:DAYLIGHT
BEGIN:STANDARD
TZOFFSETFROM:-0500
TZOFFSETTO:-0600
TZNAME:CST
DTSTART:20251102T070000
END:STANDARD
BEGIN:DAYLIGHT
TZOFFSETFROM:-0600
TZOFFSETTO:-0500
TZNAME:CDT
DTSTART:20260308T080000
END:DAYLIGHT
BEGIN:STANDARD
TZOFFSETFROM:-0500
TZOFFSETTO:-0600
TZNAME:CST
DTSTART:20261101T070000
END:STANDARD
BEGIN:DAYLIGHT
TZOFFSETFROM:-0600
TZOFFSETTO:-0500
TZNAME:CDT
DTSTART:20270314T080000
END:DAYLIGHT
BEGIN:STANDARD
TZOFFSETFROM:-0500
TZOFFSETTO:-0600
TZNAME:CST
DTSTART:20271107T070000
END:STANDARD
END:VTIMEZONE
BEGIN:VEVENT
DTSTART;VALUE=DATE:20260320
DTEND;VALUE=DATE:20260321
DTSTAMP:20260419T085050
CREATED:20260212T205305Z
LAST-MODIFIED:20260212T205305Z
UID:30768-1773964800-1774051199@ricelakeseniorcenter.org
SUMMARY:Senior Dining 3-20-2026
DESCRIPTION:Lemon Baked Cod with Creamy Dill Sauce\nBoiled Potatoes\nCarrots\nDinner Roll\nFruit Cobbler
URL:https://ricelakeseniorcenter.org/event/senior-dining-3-20-2026/
LOCATION:Rice Lake Senior Center\, 12 W Humbird St\, Rice Lake\, WI\, 54868\, United States
CATEGORIES:Senior Dining
END:VEVENT
BEGIN:VEVENT
DTSTART;VALUE=DATE:20260319
DTEND;VALUE=DATE:20260320
DTSTAMP:20260419T085050
CREATED:20260212T205054Z
LAST-MODIFIED:20260212T205054Z
UID:30766-1773878400-1773964799@ricelakeseniorcenter.org
SUMMARY:Senior Dining 3-19-2026
DESCRIPTION:Chicken Stir Fry over Brown Rice\nOriental Vegetables\nVegetable Egg Roll\nMandarin Oranges
URL:https://ricelakeseniorcenter.org/event/senior-dining-3-19-2026/
LOCATION:Rice Lake Senior Center\, 12 W Humbird St\, Rice Lake\, WI\, 54868\, United States
CATEGORIES:Senior Dining
END:VEVENT
BEGIN:VEVENT
DTSTART;VALUE=DATE:20260318
DTEND;VALUE=DATE:20260319
DTSTAMP:20260419T085050
CREATED:20260212T204831Z
LAST-MODIFIED:20260212T204831Z
UID:30764-1773792000-1773878399@ricelakeseniorcenter.org
SUMMARY:Senior Dining 3-18-2026
DESCRIPTION:Chipped Beef over Mashed Potatoes\nSteamed Corn\nPickled Beets\nDate Bar\nSalad Bar Only at Rice Lake Center
URL:https://ricelakeseniorcenter.org/event/senior-dining-3-18-2026/
LOCATION:Rice Lake Senior Center\, 12 W Humbird St\, Rice Lake\, WI\, 54868\, United States
CATEGORIES:Senior Dining
END:VEVENT
BEGIN:VEVENT
DTSTART;VALUE=DATE:20260317
DTEND;VALUE=DATE:20260318
DTSTAMP:20260419T085050
CREATED:20260212T204613Z
LAST-MODIFIED:20260212T204613Z
UID:30762-1773705600-1773791999@ricelakeseniorcenter.org
SUMMARY:Senior Dining 3-17-2026
DESCRIPTION:Corned Beef & Cabbage\nBoiled Potatoes\nCarrots\nPumpernickel Bread\nPistachio Whip
URL:https://ricelakeseniorcenter.org/event/senior-dining-3-17-2026/
LOCATION:Rice Lake Senior Center\, 12 W Humbird St\, Rice Lake\, WI\, 54868\, United States
CATEGORIES:Senior Dining
END:VEVENT
BEGIN:VEVENT
DTSTART;VALUE=DATE:20260316
DTEND;VALUE=DATE:20260317
DTSTAMP:20260419T085050
CREATED:20260212T204345Z
LAST-MODIFIED:20260212T204345Z
UID:30760-1773619200-1773705599@ricelakeseniorcenter.org
SUMMARY:Senior Dining 3-16-2026
DESCRIPTION:Creamy Mushroom Beef Stroganoff over Egg Noodles\nMixed Vegetables\nAssorted Bread\nFresh Orange
URL:https://ricelakeseniorcenter.org/event/senior-dining-3-16-2026/
LOCATION:Rice Lake Senior Center\, 12 W Humbird St\, Rice Lake\, WI\, 54868\, United States
CATEGORIES:Senior Dining
END:VEVENT
BEGIN:VEVENT
DTSTART;VALUE=DATE:20260313
DTEND;VALUE=DATE:20260314
DTSTAMP:20260419T085050
CREATED:20260212T204145Z
LAST-MODIFIED:20260212T204145Z
UID:30758-1773360000-1773446399@ricelakeseniorcenter.org
SUMMARY:Senior Dining 3-13-2026
DESCRIPTION:Western Egg Bake with Hash browns\, Onions\, Peppers & Cheese\nAssorted Yogurt\nBlueberry Muffin\nV-8 Juice
URL:https://ricelakeseniorcenter.org/event/senior-dining-3-13-2026/
LOCATION:Rice Lake Senior Center\, 12 W Humbird St\, Rice Lake\, WI\, 54868\, United States
CATEGORIES:Senior Dining
END:VEVENT
BEGIN:VEVENT
DTSTART;VALUE=DATE:20260312
DTEND;VALUE=DATE:20260313
DTSTAMP:20260419T085050
CREATED:20260212T203047Z
LAST-MODIFIED:20260212T203047Z
UID:30756-1773273600-1773359999@ricelakeseniorcenter.org
SUMMARY:Senior Dining 3-12-2026
DESCRIPTION:Pineapple Ham\nSweet Potatoes\nMixed Vegetables\nAssorted Bread\nAssorted Fruit Pie
URL:https://ricelakeseniorcenter.org/event/senior-dining-3-12-2026/
LOCATION:Rice Lake Senior Center\, 12 W Humbird St\, Rice Lake\, WI\, 54868\, United States
CATEGORIES:Senior Dining
END:VEVENT
BEGIN:VEVENT
DTSTART;VALUE=DATE:20260311
DTEND;VALUE=DATE:20260312
DTSTAMP:20260419T085050
CREATED:20260212T202830Z
LAST-MODIFIED:20260212T202830Z
UID:30754-1773187200-1773273599@ricelakeseniorcenter.org
SUMMARY:Senior Dining 3-11-2026
DESCRIPTION:Chicken Alfredo over Whole Wheat Noodles\nSteamed Broccoli\nDinner Roll\nPeach Crisp
URL:https://ricelakeseniorcenter.org/event/senior-dining-3-11-2026/
LOCATION:WI
CATEGORIES:Senior Dining
END:VEVENT
BEGIN:VEVENT
DTSTART;VALUE=DATE:20260310
DTEND;VALUE=DATE:20260311
DTSTAMP:20260419T085050
CREATED:20260212T202632Z
LAST-MODIFIED:20260212T202632Z
UID:30752-1773100800-1773187199@ricelakeseniorcenter.org
SUMMARY:Senior Dining 3-10-2026
DESCRIPTION:Salisbury Steak with Onions\nMashed Potatoes with Gravy\nSweetend Carrots\nAssorted Bread\nTexas Sheet Cake
URL:https://ricelakeseniorcenter.org/event/senior-dining-3-10-2026/
LOCATION:WI
CATEGORIES:Senior Dining
END:VEVENT
BEGIN:VEVENT
DTSTART;VALUE=DATE:20260309
DTEND;VALUE=DATE:20260310
DTSTAMP:20260419T085050
CREATED:20260212T202351Z
LAST-MODIFIED:20260212T202351Z
UID:30750-1773014400-1773100799@ricelakeseniorcenter.org
SUMMARY:Senior Dining 3-9-2026
DESCRIPTION:Sloppy Joe on a Whole Wheat Bun\nBaked Beans\nPotato Salad\nIce Cream
URL:https://ricelakeseniorcenter.org/event/senior-dining-3-9-2026/
LOCATION:Rice Lake Senior Center\, 12 W Humbird St\, Rice Lake\, WI\, 54868\, United States
CATEGORIES:Senior Dining
END:VEVENT
BEGIN:VEVENT
DTSTART;VALUE=DATE:20260306
DTEND;VALUE=DATE:20260307
DTSTAMP:20260419T085050
CREATED:20260212T202141Z
LAST-MODIFIED:20260212T202141Z
UID:30748-1772755200-1772841599@ricelakeseniorcenter.org
SUMMARY:Senior Dining 3-6-2026
DESCRIPTION:Seafood Pasta Salad on Lettuce Leaf\nCowboy Caviar with Tortilla Chips\nCook’s Choice Cookie
URL:https://ricelakeseniorcenter.org/event/senior-dining-3-6-2026/
LOCATION:Rice Lake Senior Center\, 12 W Humbird St\, Rice Lake\, WI\, 54868\, United States
CATEGORIES:Senior Dining
END:VEVENT
BEGIN:VEVENT
DTSTART;VALUE=DATE:20260305
DTEND;VALUE=DATE:20260306
DTSTAMP:20260419T085050
CREATED:20260212T201905Z
LAST-MODIFIED:20260212T201905Z
UID:30746-1772668800-1772755199@ricelakeseniorcenter.org
SUMMARY:Senior Dining 3-5-2026
DESCRIPTION:Home-style Meatloaf\nMashed Potatoes with Gravy\nStewed Tomatoes\nAssorted Bread\nLemon Bar
URL:https://ricelakeseniorcenter.org/event/senior-dining-3-5-2026/
LOCATION:Rice Lake Senior Center\, 12 W Humbird St\, Rice Lake\, WI\, 54868\, United States
CATEGORIES:Senior Dining
END:VEVENT
BEGIN:VEVENT
DTSTART;VALUE=DATE:20260304
DTEND;VALUE=DATE:20260305
DTSTAMP:20260419T085050
CREATED:20260212T201714Z
LAST-MODIFIED:20260212T201714Z
UID:30744-1772582400-1772668799@ricelakeseniorcenter.org
SUMMARY:Senior Dining 3-4-2026
DESCRIPTION:Turkey & Cheese Sandwich\nTomato Basil Soup\nCottage Cheese\nBanana\nSalad Bar Only at Rice Lake Center
URL:https://ricelakeseniorcenter.org/event/senior-dining-3-4-2026/
LOCATION:Rice Lake Senior Center\, 12 W Humbird St\, Rice Lake\, WI\, 54868\, United States
CATEGORIES:Senior Dining
END:VEVENT
BEGIN:VEVENT
DTSTART;VALUE=DATE:20260303
DTEND;VALUE=DATE:20260304
DTSTAMP:20260419T085050
CREATED:20260212T201440Z
LAST-MODIFIED:20260212T201440Z
UID:30742-1772496000-1772582399@ricelakeseniorcenter.org
SUMMARY:Senior Dining 3-3-2026
DESCRIPTION:Beef Lasagna\nTossed Arugila Salad (BB)\nBreadstick\nChocolate Cherry Cake
URL:https://ricelakeseniorcenter.org/event/senior-dining-3-3-2026/
LOCATION:Rice Lake Senior Center\, 12 W Humbird St\, Rice Lake\, WI\, 54868\, United States
CATEGORIES:Senior Dining
END:VEVENT
BEGIN:VEVENT
DTSTART;VALUE=DATE:20260302
DTEND;VALUE=DATE:20260303
DTSTAMP:20260419T085050
CREATED:20260212T201132Z
LAST-MODIFIED:20260212T201132Z
UID:30740-1772409600-1772495999@ricelakeseniorcenter.org
SUMMARY:Senior Dining 3-2-2026
DESCRIPTION:Ham & Scalloped Potatoes\nPeas & Pearl Onions\nAssorted Bread\nChilled Pears
URL:https://ricelakeseniorcenter.org/event/senior-dining-3-2-2026/
LOCATION:Rice Lake Senior Center\, 12 W Humbird St\, Rice Lake\, WI\, 54868\, United States
CATEGORIES:Senior Dining
END:VEVENT
BEGIN:VEVENT
DTSTART;VALUE=DATE:20260227
DTEND;VALUE=DATE:20260228
DTSTAMP:20260419T085050
CREATED:20260120T200515Z
LAST-MODIFIED:20260120T200515Z
UID:30731-1772150400-1772236799@ricelakeseniorcenter.org
SUMMARY:Senior Dining 2-27-2026
DESCRIPTION:Bean & Lentil Hearty Chili with Crackers\nPickled Beets\nBanana Bar with Cream Cheese Frosting
URL:https://ricelakeseniorcenter.org/event/senior-dining-2-27-2026/
LOCATION:Rice Lake Senior Center\, 12 W Humbird St\, Rice Lake\, WI\, 54868\, United States
CATEGORIES:Senior Dining
END:VEVENT
BEGIN:VEVENT
DTSTART;VALUE=DATE:20260226
DTEND;VALUE=DATE:20260227
DTSTAMP:20260419T085050
CREATED:20260120T200320Z
LAST-MODIFIED:20260120T200320Z
UID:30729-1772064000-1772150399@ricelakeseniorcenter.org
SUMMARY:Senior Dining 2-26-2026
DESCRIPTION:Creamy Chicken Ala King with Mixed Vegetables Served over a Flakey Biscuit\nBerry Crisp Dessert
URL:https://ricelakeseniorcenter.org/event/senior-dining-2-26-2026/
LOCATION:Rice Lake Senior Center\, 12 W Humbird St\, Rice Lake\, WI\, 54868\, United States
CATEGORIES:Senior Dining
END:VEVENT
BEGIN:VEVENT
DTSTART;VALUE=DATE:20260225
DTEND;VALUE=DATE:20260226
DTSTAMP:20260419T085050
CREATED:20260120T200046Z
LAST-MODIFIED:20260120T200046Z
UID:30727-1771977600-1772063999@ricelakeseniorcenter.org
SUMMARY:Senior Dining 2-25-2026
DESCRIPTION:Brunch for Lunch\nEgg\, Spinach\, Sausage & Cheese Bake\nFlavored Yogurt\nBlueberry Muffin\nTomato Juice
URL:https://ricelakeseniorcenter.org/event/senior-dining-2-25-2026/
LOCATION:Rice Lake Senior Center\, 12 W Humbird St\, Rice Lake\, WI\, 54868\, United States
CATEGORIES:Senior Dining
END:VEVENT
BEGIN:VEVENT
DTSTART;VALUE=DATE:20260224
DTEND;VALUE=DATE:20260225
DTSTAMP:20260419T085050
CREATED:20260120T195249Z
LAST-MODIFIED:20260120T195249Z
UID:30725-1771891200-1771977599@ricelakeseniorcenter.org
SUMMARY:Senior Dining 2-24-2026
DESCRIPTION:Build Your Own Burger with Cheese\, Lettuce\, Tomato & Bun\nCheesy Hash Browns\nCottage Cheese\nFresh Apple
URL:https://ricelakeseniorcenter.org/event/senior-dining-2-24-2026/
LOCATION:Rice Lake Senior Center\, 12 W Humbird St\, Rice Lake\, WI\, 54868\, United States
CATEGORIES:Senior Dining
END:VEVENT
BEGIN:VEVENT
DTSTART;VALUE=DATE:20260223
DTEND;VALUE=DATE:20260224
DTSTAMP:20260419T085050
CREATED:20260120T194913Z
LAST-MODIFIED:20260120T200805Z
UID:30723-1771804800-1771891199@ricelakeseniorcenter.org
SUMMARY:Senior Dining 2-23-2026
DESCRIPTION:Turkey Gravy over Mashed Potatoes\nSteamed Broccoli\nBreadstick\nCook’s Choice Cookie
URL:https://ricelakeseniorcenter.org/event/senior-dining-2-23-2026/
LOCATION:Rice Lake Senior Center\, 12 W Humbird St\, Rice Lake\, WI\, 54868\, United States
CATEGORIES:Senior Dining
END:VEVENT
BEGIN:VEVENT
DTSTART;VALUE=DATE:20260220
DTEND;VALUE=DATE:20260221
DTSTAMP:20260419T085050
CREATED:20260120T194511Z
LAST-MODIFIED:20260120T194511Z
UID:30721-1771545600-1771631999@ricelakeseniorcenter.org
SUMMARY:Senior Dining 2-20-2026
DESCRIPTION:Vegetable Lasagna\nTossed Side Salad\nBreadstick\nAngel Food Cake with Fruit Topping
URL:https://ricelakeseniorcenter.org/event/senior-dining-2-20-2026/
LOCATION:Rice Lake Senior Center\, 12 W Humbird St\, Rice Lake\, WI\, 54868\, United States
CATEGORIES:Senior Dining
END:VEVENT
BEGIN:VEVENT
DTSTART;VALUE=DATE:20260219
DTEND;VALUE=DATE:20260220
DTSTAMP:20260419T085050
CREATED:20260120T194217Z
LAST-MODIFIED:20260120T194217Z
UID:30719-1771459200-1771545599@ricelakeseniorcenter.org
SUMMARY:Senior Dining 2-19-2026
DESCRIPTION:Honey Glazed Salmon\nChieftan* Rice Blend\nMixed Vegetables\nAssorted Bread\nPumpkin Bar
URL:https://ricelakeseniorcenter.org/event/senior-dining-2-19-2026/
LOCATION:Rice Lake Senior Center\, 12 W Humbird St\, Rice Lake\, WI\, 54868\, United States
CATEGORIES:Senior Dining
END:VEVENT
BEGIN:VEVENT
DTSTART;VALUE=DATE:20260218
DTEND;VALUE=DATE:20260219
DTSTAMP:20260419T085050
CREATED:20260120T193838Z
LAST-MODIFIED:20260120T193838Z
UID:30717-1771372800-1771459199@ricelakeseniorcenter.org
SUMMARY:Senior Dining 2-18-2026
DESCRIPTION:Egg Salad & Lettuce Croissant Sandwich\nTomato Basil Soup\nCheese & Crackers\nPeanut Butter Bar\nSalad Bar Only at Rice Lake Center
URL:https://ricelakeseniorcenter.org/event/senior-dining-2-18-2026/
LOCATION:Rice Lake Senior Center\, 12 W Humbird St\, Rice Lake\, WI\, 54868\, United States
CATEGORIES:Senior Dining
END:VEVENT
BEGIN:VEVENT
DTSTART;VALUE=DATE:20260217
DTEND;VALUE=DATE:20260218
DTSTAMP:20260419T085050
CREATED:20260120T193507Z
LAST-MODIFIED:20260120T193507Z
UID:30715-1771286400-1771372799@ricelakeseniorcenter.org
SUMMARY:Senior Dining 2-17-2026
DESCRIPTION:Baked Ham\nButter Beans\nVegetable Blend\nAssorted Bread\nOatmeal Raisin Cookies
URL:https://ricelakeseniorcenter.org/event/senior-dining-2-17-2026/
LOCATION:Rice Lake Senior Center\, 12 W Humbird St\, Rice Lake\, WI\, 54868\, United States
CATEGORIES:Senior Dining
END:VEVENT
BEGIN:VEVENT
DTSTART;VALUE=DATE:20260216
DTEND;VALUE=DATE:20260217
DTSTAMP:20260419T085050
CREATED:20260120T193244Z
LAST-MODIFIED:20260120T193244Z
UID:30713-1771200000-1771286399@ricelakeseniorcenter.org
SUMMARY:Senior Dining 2-16-2026
DESCRIPTION:Swedish Meatballs served over Egg Noodles\nButtered Beets\nAssorted Bread\nFruit Cup
URL:https://ricelakeseniorcenter.org/event/senior-dining-2-16-2026/
LOCATION:Rice Lake Senior Center\, 12 W Humbird St\, Rice Lake\, WI\, 54868\, United States
CATEGORIES:Senior Dining
END:VEVENT
BEGIN:VEVENT
DTSTART;VALUE=DATE:20260213
DTEND;VALUE=DATE:20260214
DTSTAMP:20260419T085050
CREATED:20260120T193106Z
LAST-MODIFIED:20260120T193106Z
UID:30707-1770940800-1771027199@ricelakeseniorcenter.org
SUMMARY:Senior Dining 2-13-2026
DESCRIPTION:Shredded Pork on a whole wheat Bun\nBaked Beans\nCreamy Coleslaw\nFrosted Sweetheart Cake
URL:https://ricelakeseniorcenter.org/event/senior-dining-2-13-2026/
LOCATION:Rice Lake Senior Center\, 12 W Humbird St\, Rice Lake\, WI\, 54868\, United States
CATEGORIES:Senior Dining
END:VEVENT
BEGIN:VEVENT
DTSTART;VALUE=DATE:20260212
DTEND;VALUE=DATE:20260213
DTSTAMP:20260419T085050
CREATED:20260120T192917Z
LAST-MODIFIED:20260120T192917Z
UID:30705-1770854400-1770940799@ricelakeseniorcenter.org
SUMMARY:Senior Dining 2-12-2026
DESCRIPTION:Classic Meatloaf\nMashed Potatoes & Gravy\nStewed Tomatoes\nAssorted Bread\nLemon Bar
URL:https://ricelakeseniorcenter.org/event/senior-dining-2-12-2026/
LOCATION:Rice Lake Senior Center\, 12 W Humbird St\, Rice Lake\, WI\, 54868\, United States
CATEGORIES:Senior Dining
END:VEVENT
BEGIN:VEVENT
DTSTART;VALUE=DATE:20260211
DTEND;VALUE=DATE:20260212
DTSTAMP:20260419T085050
CREATED:20260120T192747Z
LAST-MODIFIED:20260120T192747Z
UID:30701-1770768000-1770854399@ricelakeseniorcenter.org
SUMMARY:Senior Dining 2-11-2026
DESCRIPTION:Kitchen Kleen* Loaded Baked Potato with Diced Ham\, Broccoli & Cheese\nAssorted Bread\nChilled Peaches
URL:https://ricelakeseniorcenter.org/event/senior-dining-2-11-2026/
LOCATION:Rice Lake Senior Center\, 12 W Humbird St\, Rice Lake\, WI\, 54868\, United States
CATEGORIES:Senior Dining
END:VEVENT
BEGIN:VEVENT
DTSTART;VALUE=DATE:20260210
DTEND;VALUE=DATE:20260211
DTSTAMP:20260419T085050
CREATED:20260120T192531Z
LAST-MODIFIED:20260120T192531Z
UID:30696-1770681600-1770767999@ricelakeseniorcenter.org
SUMMARY:Senior Dining 2-10-2026
DESCRIPTION:Smothered Swiss & Mushroom Chicken\nSweet Potatoes\nBrussel Sprouts\nDinner Roll\nAlmond Bar
URL:https://ricelakeseniorcenter.org/event/senior-dining-2-10-2026/
LOCATION:Rice Lake Senior Center\, 12 W Humbird St\, Rice Lake\, WI\, 54868\, United States
CATEGORIES:Senior Dining
END:VEVENT
BEGIN:VEVENT
DTSTART;VALUE=DATE:20260209
DTEND;VALUE=DATE:20260210
DTSTAMP:20260419T085050
CREATED:20260120T192317Z
LAST-MODIFIED:20260120T192317Z
UID:30693-1770595200-1770681599@ricelakeseniorcenter.org
SUMMARY:Senior Dining 2-9-2026
DESCRIPTION:Spaghetti with Meat Sauce\nSlippery Hill* Tossed Salad\nGarlic Breadstick\nIce Cream
URL:https://ricelakeseniorcenter.org/event/senior-dining-2-9-2026/
LOCATION:Rice Lake Senior Center\, 12 W Humbird St\, Rice Lake\, WI\, 54868\, United States
CATEGORIES:Senior Dining
END:VEVENT
END:VCALENDAR