BEGIN:VCALENDAR
VERSION:2.0
PRODID:-//Rice Lake Senior Center - ECPv6.15.20//NONSGML v1.0//EN
CALSCALE:GREGORIAN
METHOD:PUBLISH
X-WR-CALNAME:Rice Lake Senior Center
X-ORIGINAL-URL:https://ricelakeseniorcenter.org
X-WR-CALDESC:Events for Rice Lake Senior Center
REFRESH-INTERVAL;VALUE=DURATION:PT1H
X-Robots-Tag:noindex
X-PUBLISHED-TTL:PT1H
BEGIN:VTIMEZONE
TZID:America/Chicago
BEGIN:DAYLIGHT
TZOFFSETFROM:-0600
TZOFFSETTO:-0500
TZNAME:CDT
DTSTART:20250309T080000
END:DAYLIGHT
BEGIN:STANDARD
TZOFFSETFROM:-0500
TZOFFSETTO:-0600
TZNAME:CST
DTSTART:20251102T070000
END:STANDARD
BEGIN:DAYLIGHT
TZOFFSETFROM:-0600
TZOFFSETTO:-0500
TZNAME:CDT
DTSTART:20260308T080000
END:DAYLIGHT
BEGIN:STANDARD
TZOFFSETFROM:-0500
TZOFFSETTO:-0600
TZNAME:CST
DTSTART:20261101T070000
END:STANDARD
BEGIN:DAYLIGHT
TZOFFSETFROM:-0600
TZOFFSETTO:-0500
TZNAME:CDT
DTSTART:20270314T080000
END:DAYLIGHT
BEGIN:STANDARD
TZOFFSETFROM:-0500
TZOFFSETTO:-0600
TZNAME:CST
DTSTART:20271107T070000
END:STANDARD
END:VTIMEZONE
BEGIN:VEVENT
DTSTART;VALUE=DATE:20260507
DTEND;VALUE=DATE:20260508
DTSTAMP:20260422T055632
CREATED:20260415T151518Z
LAST-MODIFIED:20260415T151518Z
UID:30849-1778112000-1778198399@ricelakeseniorcenter.org
SUMMARY:Senior Dining 5-7-2026
DESCRIPTION:Turkey & Cheese Sandwich\nBeef Vegetable Soup\nPumpkin Bar with Cream Cheese Frosting
URL:https://ricelakeseniorcenter.org/event/senior-dining-5-7-2026/
LOCATION:Rice Lake Senior Center\, 12 W Humbird St\, Rice Lake\, WI\, 54868\, United States
CATEGORIES:Senior Dining
END:VEVENT
END:VCALENDAR